BEGIN:VCALENDAR
VERSION:2.0
PRODID:-//wp-events-plugin.com//7.2.3.1//EN
BEGIN:VEVENT
UID:704@siao.esperer-95.org
DTSTART:20260313T100000Z
DTEND:20260313T163000Z
DTSTAMP:20260227T135753Z
URL:https://siao.esperer-95.org/events/ars95-journee-internationale-des-dr
 oits-des-femmes/
SUMMARY:ARS95 - Journée internationale des Droits des femmes
DESCRIPTION:
CATEGORIES:Évènement partenaire
END:VEVENT
END:VCALENDAR