BEGIN:VCALENDAR
VERSION:2.0
PRODID:-//wp-events-plugin.com//7.2.3.1//EN
BEGIN:VEVENT
UID:505@siao.esperer-95.org
DTSTART:20250321T090000Z
DTEND:20250321T123000Z
DTSTAMP:20250218T091129Z
URL:https://siao.esperer-95.org/events/comite-de-pilotage-solibail/
SUMMARY:Comité de pilotage SOLIBAIL
DESCRIPTION:
CATEGORIES:Évènement partenaire
END:VEVENT
END:VCALENDAR