BEGIN:VCALENDAR
VERSION:2.0
PRODID:-//wp-events-plugin.com//7.2.3.1//EN
BEGIN:VEVENT
UID:681@siao.esperer-95.org
DTSTART:20260414T140000Z
DTEND:20260414T170000Z
DTSTAMP:20260227T132252Z
URL:https://siao.esperer-95.org/events/commission-situations-complexes-the
 matique-jeunes/
SUMMARY:Commission "Situations complexes" - thématique "Jeunes"
DESCRIPTION:
CATEGORIES:Commission Situations Complexes
END:VEVENT
END:VCALENDAR