BEGIN:VCALENDAR
VERSION:2.0
PRODID:-//wp-events-plugin.com//7.2.3.1//EN
BEGIN:VEVENT
UID:705@siao.esperer-95.org
DTSTART:20260321T140000Z
DTEND:20260321T170000Z
DTSTAMP:20260227T140001Z
URL:https://siao.esperer-95.org/events/conference-debat-elles-ont-pousse-l
 a-porte/
SUMMARY:Conférence Débat "Elles ont poussé la porte"
DESCRIPTION:\n\nInscription en cliquant ici.
CATEGORIES:Évènement partenaire
END:VEVENT
END:VCALENDAR