BEGIN:VCALENDAR
VERSION:2.0
PRODID:-//wp-events-plugin.com//7.2.3.1//EN
BEGIN:VEVENT
UID:701@siao.esperer-95.org
DTSTART:20260326T093000Z
DTEND:20260326T160000Z
DTSTAMP:20260227T135230Z
URL:https://siao.esperer-95.org/events/coopins-en-bretagne-cooperer-pour-i
 nserer-rennes/
SUMMARY:Coop’Ins en Bretagne : coopérer pour insérer - Rennes
DESCRIPTION:\n\nDétails du programme et modalités d’inscription\, en cl
 iquant ici.
CATEGORIES:Évènement partenaire
END:VEVENT
END:VCALENDAR