BEGIN:VCALENDAR
VERSION:2.0
PRODID:-//wp-events-plugin.com//7.2.3.1//EN
BEGIN:VEVENT
UID:694@siao.esperer-95.org
DTSTART:20260313T140000Z
DTEND:20260313T170000Z
DTSTAMP:20260227T134130Z
URL:https://siao.esperer-95.org/events/coordination-siao-pash/
SUMMARY:Coordination SIAO-PASH
DESCRIPTION:
CATEGORIES:Coordination des acteurs
END:VEVENT
END:VCALENDAR