BEGIN:VCALENDAR
VERSION:2.0
PRODID:-//wp-events-plugin.com//7.2.3.1//EN
BEGIN:VEVENT
UID:699@siao.esperer-95.org
DTSTART:20260325T140000Z
DTEND:20260325T170000Z
DTSTAMP:20260227T134802Z
URL:https://siao.esperer-95.org/events/copil-accompagnement-social-a-lhote
 l-de-la-drihl/
SUMMARY:COPIL Accompagnement social à l'hôtel de la DRIHL
DESCRIPTION:
CATEGORIES:Évènement partenaire
END:VEVENT
END:VCALENDAR