BEGIN:VCALENDAR
VERSION:2.0
PRODID:-//wp-events-plugin.com//7.2.3.1//EN
BEGIN:VEVENT
UID:698@siao.esperer-95.org
DTSTART:20260324T090000Z
DTEND:20260324T170000Z
DTSTAMP:20260227T134652Z
URL:https://siao.esperer-95.org/events/formation-mission-logement-modules-
 1-et-2-2/
SUMMARY:Formation Mission Logement - Modules 1 et 2
DESCRIPTION:\n\nInformations et inscription : 2026 - Favoriser l'accès au 
 logement social des publics prioritaires  – Remplir le formulaire
CATEGORIES:Formations Mission Logement
END:VEVENT
END:VCALENDAR