BEGIN:VCALENDAR
VERSION:2.0
PRODID:-//wp-events-plugin.com//7.2.3.1//EN
BEGIN:VEVENT
UID:697@siao.esperer-95.org
DTSTART:20260331T090000Z
DTEND:20260331T170000Z
DTSTAMP:20260227T134448Z
URL:https://siao.esperer-95.org/events/formation-mission-logement-modules-
 3-et-4/
SUMMARY:Formation Mission Logement - Modules 3 et 4
DESCRIPTION:\n\nInformations et inscription : 2026 - Favoriser l'accès au 
 logement social des publics prioritaires  – Remplir le formulaire
CATEGORIES:Formations Mission Logement
END:VEVENT
END:VCALENDAR