BEGIN:VCALENDAR
VERSION:2.0
PRODID:-//wp-events-plugin.com//7.2.3.1//EN
BEGIN:VEVENT
UID:117@siao.esperer-95.org
DTSTART:20230608T140000Z
DTEND:20230608T170000Z
DTSTAMP:20230530T161751Z
URL:https://siao.esperer-95.org/events/semaine-du-logement-des-jeunes/
SUMMARY:Semaine du logement des jeunes
DESCRIPTION:
CATEGORIES:Évènement partenaire
END:VEVENT
END:VCALENDAR