BEGIN:VCALENDAR
VERSION:2.0
PRODID:-//wp-events-plugin.com//7.2.3.1//EN
BEGIN:VEVENT
UID:703@siao.esperer-95.org
DTSTART:20260330T000000Z
DTEND:20260403T000000Z
DTSTAMP:20260227T135604Z
URL:https://siao.esperer-95.org/events/semaine-habitat-jeunes-ile-de-franc
 e/
SUMMARY:Semaine Habitat Jeunes Île-de-France
DESCRIPTION:\n\nProgramme et modalités d’inscription en cliquant ici.
CATEGORIES:Évènement partenaire
END:VEVENT
END:VCALENDAR