BEGIN:VCALENDAR
VERSION:2.0
PRODID:-//wp-events-plugin.com//7.2.3.1//EN
BEGIN:VEVENT
UID:429@siao.esperer-95.org
DTSTART:20241119T090000Z
DTEND:20241119T123000Z
DTSTAMP:20241001T115917Z
URL:https://siao.esperer-95.org/events/vieillissement-et-precarite-quelles
 -perspectives-de-prise-en-charge-dans-le-val-doise/
SUMMARY:Vieillissement et Précarité - Quelles perspectives de prise en ch
 arge dans le Val-d'Oise ?
DESCRIPTION:Le SIAO 95 propose aux professionnels de terrain de réfléchir
  sur les perspectives de prise en charge du public précaire vieillissant.
  Le bien vieillir est une thématique récurrente ayant fait l’objet d
 ’une loi adoptée en avril dernier. Cependant\, qu'en est-il pour les pe
 rsonnes en situation de rue ou hébergées en structure ? Comment accomp
 agner ce public qui peut vieillir prématurément en raison de parcours d
 ’errance parfois traumatiques ? Les structures d’hébergement d’urge
 nce ou d’insertion\, les hôtels sont-ils adaptés à la perte d’auton
 omie ? Les professionnels du secteur AHI sont-ils formés pour répondre 
 à leurs besoins spécifiques ? Nous vous invitons à nous retrouver le 19
  novembre prochain pour aborder cette thématique au carrefour de plusieur
 s politiques publiques. \n\nInscription gratuite en cliquant ici.
CATEGORIES:Coordination Territoriale semestrielle
END:VEVENT
END:VCALENDAR